BEGIN:VCALENDAR
VERSION:2.0
PRODID:-//St. Mark&#039;s Episcopal Cathedral | Minneapolis - ECPv6.15.20//NONSGML v1.0//EN
CALSCALE:GREGORIAN
METHOD:PUBLISH
X-WR-CALNAME:St. Mark&#039;s Episcopal Cathedral | Minneapolis
X-ORIGINAL-URL:https://ourcathedral.org
X-WR-CALDESC:Events for St. Mark&#039;s Episcopal Cathedral | Minneapolis
REFRESH-INTERVAL;VALUE=DURATION:PT1H
X-Robots-Tag:noindex
X-PUBLISHED-TTL:PT1H
BEGIN:VTIMEZONE
TZID:America/Chicago
BEGIN:DAYLIGHT
TZOFFSETFROM:-0600
TZOFFSETTO:-0500
TZNAME:CDT
DTSTART:20240310T080000
END:DAYLIGHT
BEGIN:STANDARD
TZOFFSETFROM:-0500
TZOFFSETTO:-0600
TZNAME:CST
DTSTART:20241103T070000
END:STANDARD
BEGIN:DAYLIGHT
TZOFFSETFROM:-0600
TZOFFSETTO:-0500
TZNAME:CDT
DTSTART:20250309T080000
END:DAYLIGHT
BEGIN:STANDARD
TZOFFSETFROM:-0500
TZOFFSETTO:-0600
TZNAME:CST
DTSTART:20251102T070000
END:STANDARD
BEGIN:DAYLIGHT
TZOFFSETFROM:-0600
TZOFFSETTO:-0500
TZNAME:CDT
DTSTART:20260308T080000
END:DAYLIGHT
BEGIN:STANDARD
TZOFFSETFROM:-0500
TZOFFSETTO:-0600
TZNAME:CST
DTSTART:20261101T070000
END:STANDARD
END:VTIMEZONE
BEGIN:VTIMEZONE
TZID:UTC
BEGIN:STANDARD
TZOFFSETFROM:+0000
TZOFFSETTO:+0000
TZNAME:UTC
DTSTART:20240101T000000
END:STANDARD
END:VTIMEZONE
BEGIN:VEVENT
DTSTART;TZID=America/Chicago:20250813T121500
DTEND;TZID=America/Chicago:20250813T121500
DTSTAMP:20260419T122701
CREATED:20240617T203214Z
LAST-MODIFIED:20260110T231356Z
UID:10007444-1755087300-1755087300@ourcathedral.org
SUMMARY:Midweek Holy Eucharist
DESCRIPTION:Holy Eucharist | 12:15 p.m.; includes a casual homily in a comfortable setting. In person\, All Saints Chapel.
URL:https://ourcathedral.org/event/midweek-service-2/2025-08-13/
LOCATION:All Saints Chapel
CATEGORIES:Worship
ATTACH;FMTTYPE=image/webp:https://ourcathedral.org/wp-content/uploads/2024/06/All-Saints-Chapel.webp
END:VEVENT
BEGIN:VEVENT
DTSTART;TZID=UTC:20250810T103000
DTEND;TZID=UTC:20250810T113000
DTSTAMP:20260419T122701
CREATED:20230314T160355Z
LAST-MODIFIED:20260112T213320Z
UID:10003956-1754821800-1754825400@ourcathedral.org
SUMMARY:Worship Service Rite II (Contemporary Language)
DESCRIPTION:With Choral Eucharist. In person and live stream.
URL:https://ourcathedral.org/event/worship-service-rite-ii-contemporary-language-2/2025-08-10/
LOCATION:Nave
CATEGORIES:Liturgy
ATTACH;FMTTYPE=image/webp:https://ourcathedral.org/wp-content/uploads/2023/03/Cathedral-stained-glass.webp
END:VEVENT
BEGIN:VEVENT
DTSTART;TZID=America/Chicago:20250810T090000
DTEND;TZID=America/Chicago:20250810T130000
DTSTAMP:20260419T122701
CREATED:20221206T000235Z
LAST-MODIFIED:20260304T193925Z
UID:10013751-1754816400-1754830800@ourcathedral.org
SUMMARY:Sunday Fellowship
DESCRIPTION:Join us every Sunday morning at 9 a.m. and throughout the morning to build and deepen relationships and enjoy refreshments.
URL:https://ourcathedral.org/event/sunday-fellowship/2025-08-10/
LOCATION:Community Room\, 519 Oak Grove Street\, Minneapolis\, 55403\, United States
ATTACH;FMTTYPE=image/webp:https://ourcathedral.org/wp-content/uploads/2026/03/Fellowship-coffee.webp
END:VEVENT
BEGIN:VEVENT
DTSTART;TZID=UTC:20250810T080000
DTEND;TZID=UTC:20250810T090000
DTSTAMP:20260419T122701
CREATED:20230314T155624Z
LAST-MODIFIED:20260112T213357Z
UID:10003695-1754812800-1754816400@ourcathedral.org
SUMMARY:Worship Service Rite I (Traditional Language) with Spoken Eucharist
DESCRIPTION:In person at Saint Mark’s\, Nave.
URL:https://ourcathedral.org/event/worship-service-rite-i-traditional-language-with-spoken-eucharist-2/2025-08-10/
LOCATION:Nave
CATEGORIES:Liturgy,Worship
ATTACH;FMTTYPE=image/png:https://ourcathedral.org/wp-content/uploads/2025/10/Book-of-Common-Prayer-stacked-on-shelf.png
END:VEVENT
BEGIN:VEVENT
DTSTART;TZID=America/Chicago:20250808T121500
DTEND;TZID=America/Chicago:20250808T124500
DTSTAMP:20260419T122701
CREATED:20250618T002556Z
LAST-MODIFIED:20260310T134057Z
UID:10011795-1754655300-1754657100@ourcathedral.org
SUMMARY:Gospel Based Discipleship
DESCRIPTION:This is a small group opportunity that combines study of Scripture with reflection on our spiritual lives.  Focusing on the Gospel selection prescribed for the upcoming Sunday\, we ask three questions\, reading the passage each time. \n\nRead the Gospel – What word(s)\, idea(s)\, or phrase(s) stand out for you?\nRead the Gospel – What is Jesus (the Gospel) saying to you?\nRead the Gospel – What is Jesus (the Gospel) calling you to do?\n\nSharing our responses\, we listen and learn. \nGospel Based Discipleship is not a formal Bible study.  There is a convener but no authoritative interpreter.  Members take away their own inspiration from an encounter with Jesus in the company of others who are seeking deeper discipleship. \nWe meet every Friday at 12:15 pm via Zoom and aim to keep the meeting to 30-35 minutes. Access the Zoom link here. \nUpcoming meetings in the weeks and months ahead: \nGospel Based DiscipleshipApril 24 @ 12:15 pm - 12:45 pmGospel Based DiscipleshipMay 1 @ 12:15 pm - 12:45 pmGospel Based DiscipleshipMay 8 @ 12:15 pm - 12:45 pmGospel Based DiscipleshipMay 15 @ 12:15 pm - 12:45 pm
URL:https://ourcathedral.org/event/gospel-based-discipleship-4-2-2/2025-08-08/
LOCATION:Zoom
CATEGORIES:Formation,Gospel Based Discipleship
ATTACH;FMTTYPE=image/jpeg:https://ourcathedral.org/wp-content/uploads/2023/08/Luke-e1772655392110.jpg
END:VEVENT
BEGIN:VEVENT
DTSTART;TZID=America/Chicago:20250808T080000
DTEND;TZID=America/Chicago:20250808T170000
DTSTAMP:20260419T122701
CREATED:20241209T200512Z
LAST-MODIFIED:20260318T163228Z
UID:10010903-1754640000-1754672400@ourcathedral.org
SUMMARY:Cathedral Closed - No Building Hours
DESCRIPTION:Beginning in 2025\, the Cathedral campus will be closed for regular business hours on Friday.
URL:https://ourcathedral.org/event/cathedral-closed-no-building-hours/2025-08-08/
LOCATION:Saint Mark’s Episcopal Cathedral\, 519 Oak Grove Street\, Minneapolis\, 55403\, United States
ATTACH;FMTTYPE=image/png:https://ourcathedral.org/wp-content/uploads/2025/06/Cathedral-closed-e1772655332556.png
END:VEVENT
BEGIN:VEVENT
DTSTART;TZID=America/Chicago:20250806T121500
DTEND;TZID=America/Chicago:20250806T121500
DTSTAMP:20260419T122701
CREATED:20240617T203214Z
LAST-MODIFIED:20260110T231356Z
UID:10007443-1754482500-1754482500@ourcathedral.org
SUMMARY:Midweek Holy Eucharist
DESCRIPTION:Holy Eucharist | 12:15 p.m.; includes a casual homily in a comfortable setting. In person\, All Saints Chapel.
URL:https://ourcathedral.org/event/midweek-service-2/2025-08-06/
LOCATION:All Saints Chapel
CATEGORIES:Worship
ATTACH;FMTTYPE=image/webp:https://ourcathedral.org/wp-content/uploads/2024/06/All-Saints-Chapel.webp
END:VEVENT
BEGIN:VEVENT
DTSTART;TZID=UTC:20250803T103000
DTEND;TZID=UTC:20250803T113000
DTSTAMP:20260419T122701
CREATED:20230314T160355Z
LAST-MODIFIED:20260112T213320Z
UID:10003955-1754217000-1754220600@ourcathedral.org
SUMMARY:Worship Service Rite II (Contemporary Language)
DESCRIPTION:With Choral Eucharist. In person and live stream.
URL:https://ourcathedral.org/event/worship-service-rite-ii-contemporary-language-2/2025-08-03/
LOCATION:Nave
CATEGORIES:Liturgy
ATTACH;FMTTYPE=image/webp:https://ourcathedral.org/wp-content/uploads/2023/03/Cathedral-stained-glass.webp
END:VEVENT
BEGIN:VEVENT
DTSTART;TZID=America/Chicago:20250803T090000
DTEND;TZID=America/Chicago:20250803T130000
DTSTAMP:20260419T122701
CREATED:20221206T000235Z
LAST-MODIFIED:20260304T193925Z
UID:10013750-1754211600-1754226000@ourcathedral.org
SUMMARY:Sunday Fellowship
DESCRIPTION:Join us every Sunday morning at 9 a.m. and throughout the morning to build and deepen relationships and enjoy refreshments.
URL:https://ourcathedral.org/event/sunday-fellowship/2025-08-03/
LOCATION:Community Room\, 519 Oak Grove Street\, Minneapolis\, 55403\, United States
ATTACH;FMTTYPE=image/webp:https://ourcathedral.org/wp-content/uploads/2026/03/Fellowship-coffee.webp
END:VEVENT
BEGIN:VEVENT
DTSTART;TZID=UTC:20250803T080000
DTEND;TZID=UTC:20250803T090000
DTSTAMP:20260419T122701
CREATED:20230314T155624Z
LAST-MODIFIED:20260112T213357Z
UID:10003694-1754208000-1754211600@ourcathedral.org
SUMMARY:Worship Service Rite I (Traditional Language) with Spoken Eucharist
DESCRIPTION:In person at Saint Mark’s\, Nave.
URL:https://ourcathedral.org/event/worship-service-rite-i-traditional-language-with-spoken-eucharist-2/2025-08-03/
LOCATION:Nave
CATEGORIES:Liturgy,Worship
ATTACH;FMTTYPE=image/png:https://ourcathedral.org/wp-content/uploads/2025/10/Book-of-Common-Prayer-stacked-on-shelf.png
END:VEVENT
BEGIN:VEVENT
DTSTART;TZID=America/Chicago:20250801T121500
DTEND;TZID=America/Chicago:20250801T124500
DTSTAMP:20260419T122701
CREATED:20250618T002556Z
LAST-MODIFIED:20260310T134057Z
UID:10011794-1754050500-1754052300@ourcathedral.org
SUMMARY:Gospel Based Discipleship
DESCRIPTION:This is a small group opportunity that combines study of Scripture with reflection on our spiritual lives.  Focusing on the Gospel selection prescribed for the upcoming Sunday\, we ask three questions\, reading the passage each time. \n\nRead the Gospel – What word(s)\, idea(s)\, or phrase(s) stand out for you?\nRead the Gospel – What is Jesus (the Gospel) saying to you?\nRead the Gospel – What is Jesus (the Gospel) calling you to do?\n\nSharing our responses\, we listen and learn. \nGospel Based Discipleship is not a formal Bible study.  There is a convener but no authoritative interpreter.  Members take away their own inspiration from an encounter with Jesus in the company of others who are seeking deeper discipleship. \nWe meet every Friday at 12:15 pm via Zoom and aim to keep the meeting to 30-35 minutes. Access the Zoom link here. \nUpcoming meetings in the weeks and months ahead: \nGospel Based DiscipleshipApril 24 @ 12:15 pm - 12:45 pmGospel Based DiscipleshipMay 1 @ 12:15 pm - 12:45 pmGospel Based DiscipleshipMay 8 @ 12:15 pm - 12:45 pmGospel Based DiscipleshipMay 15 @ 12:15 pm - 12:45 pm
URL:https://ourcathedral.org/event/gospel-based-discipleship-4-2-2/2025-08-01/
LOCATION:Zoom
CATEGORIES:Formation,Gospel Based Discipleship
ATTACH;FMTTYPE=image/jpeg:https://ourcathedral.org/wp-content/uploads/2023/08/Luke-e1772655392110.jpg
END:VEVENT
BEGIN:VEVENT
DTSTART;TZID=America/Chicago:20250801T080000
DTEND;TZID=America/Chicago:20250801T170000
DTSTAMP:20260419T122701
CREATED:20241209T200512Z
LAST-MODIFIED:20260318T163228Z
UID:10010902-1754035200-1754067600@ourcathedral.org
SUMMARY:Cathedral Closed - No Building Hours
DESCRIPTION:Beginning in 2025\, the Cathedral campus will be closed for regular business hours on Friday.
URL:https://ourcathedral.org/event/cathedral-closed-no-building-hours/2025-08-01/
LOCATION:Saint Mark’s Episcopal Cathedral\, 519 Oak Grove Street\, Minneapolis\, 55403\, United States
ATTACH;FMTTYPE=image/png:https://ourcathedral.org/wp-content/uploads/2025/06/Cathedral-closed-e1772655332556.png
END:VEVENT
BEGIN:VEVENT
DTSTART;TZID=America/Chicago:20250730T121500
DTEND;TZID=America/Chicago:20250730T121500
DTSTAMP:20260419T122701
CREATED:20240617T203214Z
LAST-MODIFIED:20260110T231356Z
UID:10007442-1753877700-1753877700@ourcathedral.org
SUMMARY:Midweek Holy Eucharist
DESCRIPTION:Holy Eucharist | 12:15 p.m.; includes a casual homily in a comfortable setting. In person\, All Saints Chapel.
URL:https://ourcathedral.org/event/midweek-service-2/2025-07-30/
LOCATION:All Saints Chapel
CATEGORIES:Worship
ATTACH;FMTTYPE=image/webp:https://ourcathedral.org/wp-content/uploads/2024/06/All-Saints-Chapel.webp
END:VEVENT
BEGIN:VEVENT
DTSTART;TZID=UTC:20250727T103000
DTEND;TZID=UTC:20250727T113000
DTSTAMP:20260419T122701
CREATED:20230314T160355Z
LAST-MODIFIED:20260112T213320Z
UID:10003954-1753612200-1753615800@ourcathedral.org
SUMMARY:Worship Service Rite II (Contemporary Language)
DESCRIPTION:With Choral Eucharist. In person and live stream.
URL:https://ourcathedral.org/event/worship-service-rite-ii-contemporary-language-2/2025-07-27/
LOCATION:Nave
CATEGORIES:Liturgy
ATTACH;FMTTYPE=image/webp:https://ourcathedral.org/wp-content/uploads/2023/03/Cathedral-stained-glass.webp
END:VEVENT
BEGIN:VEVENT
DTSTART;TZID=America/Chicago:20250727T090000
DTEND;TZID=America/Chicago:20250727T130000
DTSTAMP:20260419T122701
CREATED:20221206T000235Z
LAST-MODIFIED:20260304T193925Z
UID:10013749-1753606800-1753621200@ourcathedral.org
SUMMARY:Sunday Fellowship
DESCRIPTION:Join us every Sunday morning at 9 a.m. and throughout the morning to build and deepen relationships and enjoy refreshments.
URL:https://ourcathedral.org/event/sunday-fellowship/2025-07-27/
LOCATION:Community Room\, 519 Oak Grove Street\, Minneapolis\, 55403\, United States
ATTACH;FMTTYPE=image/webp:https://ourcathedral.org/wp-content/uploads/2026/03/Fellowship-coffee.webp
END:VEVENT
BEGIN:VEVENT
DTSTART;TZID=UTC:20250727T080000
DTEND;TZID=UTC:20250727T090000
DTSTAMP:20260419T122701
CREATED:20230314T155624Z
LAST-MODIFIED:20260112T213357Z
UID:10003693-1753603200-1753606800@ourcathedral.org
SUMMARY:Worship Service Rite I (Traditional Language) with Spoken Eucharist
DESCRIPTION:In person at Saint Mark’s\, Nave.
URL:https://ourcathedral.org/event/worship-service-rite-i-traditional-language-with-spoken-eucharist-2/2025-07-27/
LOCATION:Nave
CATEGORIES:Liturgy,Worship
ATTACH;FMTTYPE=image/png:https://ourcathedral.org/wp-content/uploads/2025/10/Book-of-Common-Prayer-stacked-on-shelf.png
END:VEVENT
BEGIN:VEVENT
DTSTART;TZID=America/Chicago:20250726T090000
DTEND;TZID=America/Chicago:20250726T100000
DTSTAMP:20260419T122701
CREATED:20241230T201759Z
LAST-MODIFIED:20260302T183455Z
UID:10011195-1753520400-1753524000@ourcathedral.org
SUMMARY:Men's Ministry
DESCRIPTION:Every 4th Saturday in Saint Mark’s Library | 9 a.m. \nAll are welcome!
URL:https://ourcathedral.org/event/mens-ministry-5/2025-07-26/
LOCATION:Saint Mark’s Episcopal Cathedral\, 519 Oak Grove Street\, Minneapolis\, 55403\, United States
CATEGORIES:Men
ATTACH;FMTTYPE=image/jpeg:https://ourcathedral.org/wp-content/uploads/2025/12/Men-standing-in-front-of-Cathedral.jpg
END:VEVENT
BEGIN:VEVENT
DTSTART;TZID=America/Chicago:20250725T121500
DTEND;TZID=America/Chicago:20250725T124500
DTSTAMP:20260419T122701
CREATED:20250618T002556Z
LAST-MODIFIED:20260310T134057Z
UID:10011793-1753445700-1753447500@ourcathedral.org
SUMMARY:Gospel Based Discipleship
DESCRIPTION:This is a small group opportunity that combines study of Scripture with reflection on our spiritual lives.  Focusing on the Gospel selection prescribed for the upcoming Sunday\, we ask three questions\, reading the passage each time. \n\nRead the Gospel – What word(s)\, idea(s)\, or phrase(s) stand out for you?\nRead the Gospel – What is Jesus (the Gospel) saying to you?\nRead the Gospel – What is Jesus (the Gospel) calling you to do?\n\nSharing our responses\, we listen and learn. \nGospel Based Discipleship is not a formal Bible study.  There is a convener but no authoritative interpreter.  Members take away their own inspiration from an encounter with Jesus in the company of others who are seeking deeper discipleship. \nWe meet every Friday at 12:15 pm via Zoom and aim to keep the meeting to 30-35 minutes. Access the Zoom link here. \nUpcoming meetings in the weeks and months ahead: \nGospel Based DiscipleshipApril 24 @ 12:15 pm - 12:45 pmGospel Based DiscipleshipMay 1 @ 12:15 pm - 12:45 pmGospel Based DiscipleshipMay 8 @ 12:15 pm - 12:45 pmGospel Based DiscipleshipMay 15 @ 12:15 pm - 12:45 pm
URL:https://ourcathedral.org/event/gospel-based-discipleship-4-2-2/2025-07-25/
LOCATION:Zoom
CATEGORIES:Formation,Gospel Based Discipleship
ATTACH;FMTTYPE=image/jpeg:https://ourcathedral.org/wp-content/uploads/2023/08/Luke-e1772655392110.jpg
END:VEVENT
BEGIN:VEVENT
DTSTART;TZID=America/Chicago:20250725T080000
DTEND;TZID=America/Chicago:20250725T170000
DTSTAMP:20260419T122701
CREATED:20241209T200512Z
LAST-MODIFIED:20260318T163228Z
UID:10010901-1753430400-1753462800@ourcathedral.org
SUMMARY:Cathedral Closed - No Building Hours
DESCRIPTION:Beginning in 2025\, the Cathedral campus will be closed for regular business hours on Friday.
URL:https://ourcathedral.org/event/cathedral-closed-no-building-hours/2025-07-25/
LOCATION:Saint Mark’s Episcopal Cathedral\, 519 Oak Grove Street\, Minneapolis\, 55403\, United States
ATTACH;FMTTYPE=image/png:https://ourcathedral.org/wp-content/uploads/2025/06/Cathedral-closed-e1772655332556.png
END:VEVENT
BEGIN:VEVENT
DTSTART;TZID=America/Chicago:20250723T121500
DTEND;TZID=America/Chicago:20250723T121500
DTSTAMP:20260419T122701
CREATED:20240617T203214Z
LAST-MODIFIED:20260110T231356Z
UID:10007441-1753272900-1753272900@ourcathedral.org
SUMMARY:Midweek Holy Eucharist
DESCRIPTION:Holy Eucharist | 12:15 p.m.; includes a casual homily in a comfortable setting. In person\, All Saints Chapel.
URL:https://ourcathedral.org/event/midweek-service-2/2025-07-23/
LOCATION:All Saints Chapel
CATEGORIES:Worship
ATTACH;FMTTYPE=image/webp:https://ourcathedral.org/wp-content/uploads/2024/06/All-Saints-Chapel.webp
END:VEVENT
BEGIN:VEVENT
DTSTART;TZID=UTC:20250720T103000
DTEND;TZID=UTC:20250720T113000
DTSTAMP:20260419T122701
CREATED:20230314T160355Z
LAST-MODIFIED:20260112T213320Z
UID:10003953-1753007400-1753011000@ourcathedral.org
SUMMARY:Worship Service Rite II (Contemporary Language)
DESCRIPTION:With Choral Eucharist. In person and live stream.
URL:https://ourcathedral.org/event/worship-service-rite-ii-contemporary-language-2/2025-07-20/
LOCATION:Nave
CATEGORIES:Liturgy
ATTACH;FMTTYPE=image/webp:https://ourcathedral.org/wp-content/uploads/2023/03/Cathedral-stained-glass.webp
END:VEVENT
BEGIN:VEVENT
DTSTART;TZID=America/Chicago:20250720T090000
DTEND;TZID=America/Chicago:20250720T130000
DTSTAMP:20260419T122701
CREATED:20221206T000235Z
LAST-MODIFIED:20260304T193925Z
UID:10013748-1753002000-1753016400@ourcathedral.org
SUMMARY:Sunday Fellowship
DESCRIPTION:Join us every Sunday morning at 9 a.m. and throughout the morning to build and deepen relationships and enjoy refreshments.
URL:https://ourcathedral.org/event/sunday-fellowship/2025-07-20/
LOCATION:Community Room\, 519 Oak Grove Street\, Minneapolis\, 55403\, United States
ATTACH;FMTTYPE=image/webp:https://ourcathedral.org/wp-content/uploads/2026/03/Fellowship-coffee.webp
END:VEVENT
BEGIN:VEVENT
DTSTART;TZID=UTC:20250720T080000
DTEND;TZID=UTC:20250720T090000
DTSTAMP:20260419T122701
CREATED:20230314T155624Z
LAST-MODIFIED:20260112T213357Z
UID:10003692-1752998400-1753002000@ourcathedral.org
SUMMARY:Worship Service Rite I (Traditional Language) with Spoken Eucharist
DESCRIPTION:In person at Saint Mark’s\, Nave.
URL:https://ourcathedral.org/event/worship-service-rite-i-traditional-language-with-spoken-eucharist-2/2025-07-20/
LOCATION:Nave
CATEGORIES:Liturgy,Worship
ATTACH;FMTTYPE=image/png:https://ourcathedral.org/wp-content/uploads/2025/10/Book-of-Common-Prayer-stacked-on-shelf.png
END:VEVENT
BEGIN:VEVENT
DTSTART;TZID=America/Chicago:20250718T121500
DTEND;TZID=America/Chicago:20250718T124500
DTSTAMP:20260419T122701
CREATED:20250618T002556Z
LAST-MODIFIED:20260310T134057Z
UID:10011792-1752840900-1752842700@ourcathedral.org
SUMMARY:Gospel Based Discipleship
DESCRIPTION:This is a small group opportunity that combines study of Scripture with reflection on our spiritual lives.  Focusing on the Gospel selection prescribed for the upcoming Sunday\, we ask three questions\, reading the passage each time. \n\nRead the Gospel – What word(s)\, idea(s)\, or phrase(s) stand out for you?\nRead the Gospel – What is Jesus (the Gospel) saying to you?\nRead the Gospel – What is Jesus (the Gospel) calling you to do?\n\nSharing our responses\, we listen and learn. \nGospel Based Discipleship is not a formal Bible study.  There is a convener but no authoritative interpreter.  Members take away their own inspiration from an encounter with Jesus in the company of others who are seeking deeper discipleship. \nWe meet every Friday at 12:15 pm via Zoom and aim to keep the meeting to 30-35 minutes. Access the Zoom link here. \nUpcoming meetings in the weeks and months ahead: \nGospel Based DiscipleshipApril 24 @ 12:15 pm - 12:45 pmGospel Based DiscipleshipMay 1 @ 12:15 pm - 12:45 pmGospel Based DiscipleshipMay 8 @ 12:15 pm - 12:45 pmGospel Based DiscipleshipMay 15 @ 12:15 pm - 12:45 pm
URL:https://ourcathedral.org/event/gospel-based-discipleship-4-2-2/2025-07-18/
LOCATION:Zoom
CATEGORIES:Formation,Gospel Based Discipleship
ATTACH;FMTTYPE=image/jpeg:https://ourcathedral.org/wp-content/uploads/2023/08/Luke-e1772655392110.jpg
END:VEVENT
BEGIN:VEVENT
DTSTART;TZID=America/Chicago:20250718T080000
DTEND;TZID=America/Chicago:20250718T170000
DTSTAMP:20260419T122701
CREATED:20241209T200512Z
LAST-MODIFIED:20260318T163228Z
UID:10010900-1752825600-1752858000@ourcathedral.org
SUMMARY:Cathedral Closed - No Building Hours
DESCRIPTION:Beginning in 2025\, the Cathedral campus will be closed for regular business hours on Friday.
URL:https://ourcathedral.org/event/cathedral-closed-no-building-hours/2025-07-18/
LOCATION:Saint Mark’s Episcopal Cathedral\, 519 Oak Grove Street\, Minneapolis\, 55403\, United States
ATTACH;FMTTYPE=image/png:https://ourcathedral.org/wp-content/uploads/2025/06/Cathedral-closed-e1772655332556.png
END:VEVENT
BEGIN:VEVENT
DTSTART;TZID=America/Chicago:20250716T121500
DTEND;TZID=America/Chicago:20250716T121500
DTSTAMP:20260419T122701
CREATED:20240617T203214Z
LAST-MODIFIED:20260110T231356Z
UID:10007440-1752668100-1752668100@ourcathedral.org
SUMMARY:Midweek Holy Eucharist
DESCRIPTION:Holy Eucharist | 12:15 p.m.; includes a casual homily in a comfortable setting. In person\, All Saints Chapel.
URL:https://ourcathedral.org/event/midweek-service-2/2025-07-16/
LOCATION:All Saints Chapel
CATEGORIES:Worship
ATTACH;FMTTYPE=image/webp:https://ourcathedral.org/wp-content/uploads/2024/06/All-Saints-Chapel.webp
END:VEVENT
BEGIN:VEVENT
DTSTART;TZID=UTC:20250713T103000
DTEND;TZID=UTC:20250713T113000
DTSTAMP:20260419T122701
CREATED:20230314T160355Z
LAST-MODIFIED:20260112T213320Z
UID:10003952-1752402600-1752406200@ourcathedral.org
SUMMARY:Worship Service Rite II (Contemporary Language)
DESCRIPTION:With Choral Eucharist. In person and live stream.
URL:https://ourcathedral.org/event/worship-service-rite-ii-contemporary-language-2/2025-07-13/
LOCATION:Nave
CATEGORIES:Liturgy
ATTACH;FMTTYPE=image/webp:https://ourcathedral.org/wp-content/uploads/2023/03/Cathedral-stained-glass.webp
END:VEVENT
BEGIN:VEVENT
DTSTART;TZID=America/Chicago:20250713T090000
DTEND;TZID=America/Chicago:20250713T130000
DTSTAMP:20260419T122701
CREATED:20221206T000235Z
LAST-MODIFIED:20260304T193925Z
UID:10013747-1752397200-1752411600@ourcathedral.org
SUMMARY:Sunday Fellowship
DESCRIPTION:Join us every Sunday morning at 9 a.m. and throughout the morning to build and deepen relationships and enjoy refreshments.
URL:https://ourcathedral.org/event/sunday-fellowship/2025-07-13/
LOCATION:Community Room\, 519 Oak Grove Street\, Minneapolis\, 55403\, United States
ATTACH;FMTTYPE=image/webp:https://ourcathedral.org/wp-content/uploads/2026/03/Fellowship-coffee.webp
END:VEVENT
BEGIN:VEVENT
DTSTART;TZID=UTC:20250713T080000
DTEND;TZID=UTC:20250713T090000
DTSTAMP:20260419T122701
CREATED:20230314T155624Z
LAST-MODIFIED:20260112T213357Z
UID:10003691-1752393600-1752397200@ourcathedral.org
SUMMARY:Worship Service Rite I (Traditional Language) with Spoken Eucharist
DESCRIPTION:In person at Saint Mark’s\, Nave.
URL:https://ourcathedral.org/event/worship-service-rite-i-traditional-language-with-spoken-eucharist-2/2025-07-13/
LOCATION:Nave
CATEGORIES:Liturgy,Worship
ATTACH;FMTTYPE=image/png:https://ourcathedral.org/wp-content/uploads/2025/10/Book-of-Common-Prayer-stacked-on-shelf.png
END:VEVENT
BEGIN:VEVENT
DTSTART;TZID=America/Chicago:20250711T121500
DTEND;TZID=America/Chicago:20250711T124500
DTSTAMP:20260419T122701
CREATED:20250618T002556Z
LAST-MODIFIED:20260310T134057Z
UID:10011791-1752236100-1752237900@ourcathedral.org
SUMMARY:Gospel Based Discipleship
DESCRIPTION:This is a small group opportunity that combines study of Scripture with reflection on our spiritual lives.  Focusing on the Gospel selection prescribed for the upcoming Sunday\, we ask three questions\, reading the passage each time. \n\nRead the Gospel – What word(s)\, idea(s)\, or phrase(s) stand out for you?\nRead the Gospel – What is Jesus (the Gospel) saying to you?\nRead the Gospel – What is Jesus (the Gospel) calling you to do?\n\nSharing our responses\, we listen and learn. \nGospel Based Discipleship is not a formal Bible study.  There is a convener but no authoritative interpreter.  Members take away their own inspiration from an encounter with Jesus in the company of others who are seeking deeper discipleship. \nWe meet every Friday at 12:15 pm via Zoom and aim to keep the meeting to 30-35 minutes. Access the Zoom link here. \nUpcoming meetings in the weeks and months ahead: \nGospel Based DiscipleshipApril 24 @ 12:15 pm - 12:45 pmGospel Based DiscipleshipMay 1 @ 12:15 pm - 12:45 pmGospel Based DiscipleshipMay 8 @ 12:15 pm - 12:45 pmGospel Based DiscipleshipMay 15 @ 12:15 pm - 12:45 pm
URL:https://ourcathedral.org/event/gospel-based-discipleship-4-2-2/2025-07-11/
LOCATION:Zoom
CATEGORIES:Formation,Gospel Based Discipleship
ATTACH;FMTTYPE=image/jpeg:https://ourcathedral.org/wp-content/uploads/2023/08/Luke-e1772655392110.jpg
END:VEVENT
END:VCALENDAR