BEGIN:VCALENDAR
VERSION:2.0
PRODID:-//St. Mark&#039;s Episcopal Cathedral | Minneapolis - ECPv6.15.20//NONSGML v1.0//EN
CALSCALE:GREGORIAN
METHOD:PUBLISH
X-WR-CALNAME:St. Mark&#039;s Episcopal Cathedral | Minneapolis
X-ORIGINAL-URL:https://ourcathedral.org
X-WR-CALDESC:Events for St. Mark&#039;s Episcopal Cathedral | Minneapolis
REFRESH-INTERVAL;VALUE=DURATION:PT1H
X-Robots-Tag:noindex
X-PUBLISHED-TTL:PT1H
BEGIN:VTIMEZONE
TZID:America/Chicago
BEGIN:DAYLIGHT
TZOFFSETFROM:-0600
TZOFFSETTO:-0500
TZNAME:CDT
DTSTART:20240310T080000
END:DAYLIGHT
BEGIN:STANDARD
TZOFFSETFROM:-0500
TZOFFSETTO:-0600
TZNAME:CST
DTSTART:20241103T070000
END:STANDARD
BEGIN:DAYLIGHT
TZOFFSETFROM:-0600
TZOFFSETTO:-0500
TZNAME:CDT
DTSTART:20250309T080000
END:DAYLIGHT
BEGIN:STANDARD
TZOFFSETFROM:-0500
TZOFFSETTO:-0600
TZNAME:CST
DTSTART:20251102T070000
END:STANDARD
BEGIN:DAYLIGHT
TZOFFSETFROM:-0600
TZOFFSETTO:-0500
TZNAME:CDT
DTSTART:20260308T080000
END:DAYLIGHT
BEGIN:STANDARD
TZOFFSETFROM:-0500
TZOFFSETTO:-0600
TZNAME:CST
DTSTART:20261101T070000
END:STANDARD
END:VTIMEZONE
BEGIN:VTIMEZONE
TZID:UTC
BEGIN:STANDARD
TZOFFSETFROM:+0000
TZOFFSETTO:+0000
TZNAME:UTC
DTSTART:20240101T000000
END:STANDARD
END:VTIMEZONE
BEGIN:VEVENT
DTSTART;TZID=America/Chicago:20250827T121500
DTEND;TZID=America/Chicago:20250827T121500
DTSTAMP:20260419T122656
CREATED:20240617T203214Z
LAST-MODIFIED:20260110T231356Z
UID:10007446-1756296900-1756296900@ourcathedral.org
SUMMARY:Midweek Holy Eucharist
DESCRIPTION:Holy Eucharist | 12:15 p.m.; includes a casual homily in a comfortable setting. In person\, All Saints Chapel.
URL:https://ourcathedral.org/event/midweek-service-2/2025-08-27/
LOCATION:All Saints Chapel
CATEGORIES:Worship
ATTACH;FMTTYPE=image/webp:https://ourcathedral.org/wp-content/uploads/2024/06/All-Saints-Chapel.webp
END:VEVENT
BEGIN:VEVENT
DTSTART;TZID=America/Chicago:20250829T080000
DTEND;TZID=America/Chicago:20250829T170000
DTSTAMP:20260419T122656
CREATED:20241209T200512Z
LAST-MODIFIED:20260318T163228Z
UID:10010906-1756454400-1756486800@ourcathedral.org
SUMMARY:Cathedral Closed - No Building Hours
DESCRIPTION:Beginning in 2025\, the Cathedral campus will be closed for regular business hours on Friday.
URL:https://ourcathedral.org/event/cathedral-closed-no-building-hours/2025-08-29/
LOCATION:Saint Mark’s Episcopal Cathedral\, 519 Oak Grove Street\, Minneapolis\, 55403\, United States
ATTACH;FMTTYPE=image/png:https://ourcathedral.org/wp-content/uploads/2025/06/Cathedral-closed-e1772655332556.png
END:VEVENT
BEGIN:VEVENT
DTSTART;TZID=America/Chicago:20250829T121500
DTEND;TZID=America/Chicago:20250829T124500
DTSTAMP:20260419T122656
CREATED:20250618T002556Z
LAST-MODIFIED:20260310T134057Z
UID:10011798-1756469700-1756471500@ourcathedral.org
SUMMARY:Gospel Based Discipleship
DESCRIPTION:Benefit Concert\nSave the Date - June 20\, 2026 at 7:30 PM. We are having a concert\, featuring music that you would never hear us perform on a Sunday -- think Cole Porter\, Noel Coward\, and Henry Mancini - as well as a silent auction. Proceeds will go towards subsidizing the trip.
URL:https://ourcathedral.org/event/gospel-based-discipleship-4-2-2/2025-08-29/
LOCATION:Zoom
CATEGORIES:Formation,Gospel Based Discipleship
ATTACH;FMTTYPE=image/jpeg:https://ourcathedral.org/wp-content/uploads/2023/08/Luke-e1772655392110.jpg
END:VEVENT
BEGIN:VEVENT
DTSTART;TZID=UTC:20250831T080000
DTEND;TZID=UTC:20250831T090000
DTSTAMP:20260419T122656
CREATED:20230314T155624Z
LAST-MODIFIED:20260112T213357Z
UID:10003698-1756627200-1756630800@ourcathedral.org
SUMMARY:Worship Service Rite I (Traditional Language) with Spoken Eucharist
DESCRIPTION:Benefit Concert\nSave the Date - June 20\, 2026 at 7:30 PM. We are having a concert\, featuring music that you would never hear us perform on a Sunday -- think Cole Porter\, Noel Coward\, and Henry Mancini - as well as a silent auction. Proceeds will go towards subsidizing the trip.
URL:https://ourcathedral.org/event/worship-service-rite-i-traditional-language-with-spoken-eucharist-2/2025-08-31/
LOCATION:Nave
CATEGORIES:Liturgy,Worship
ATTACH;FMTTYPE=image/png:https://ourcathedral.org/wp-content/uploads/2025/10/Book-of-Common-Prayer-stacked-on-shelf.png
END:VEVENT
BEGIN:VEVENT
DTSTART;TZID=America/Chicago:20250831T090000
DTEND;TZID=America/Chicago:20250831T130000
DTSTAMP:20260419T122656
CREATED:20221206T000235Z
LAST-MODIFIED:20260304T193925Z
UID:10013754-1756630800-1756645200@ourcathedral.org
SUMMARY:Sunday Fellowship
DESCRIPTION:Benefit Concert\nSave the Date - June 20\, 2026 at 7:30 PM. We are having a concert\, featuring music that you would never hear us perform on a Sunday -- think Cole Porter\, Noel Coward\, and Henry Mancini - as well as a silent auction. Proceeds will go towards subsidizing the trip.
URL:https://ourcathedral.org/event/sunday-fellowship/2025-08-31/
LOCATION:Community Room\, 519 Oak Grove Street\, Minneapolis\, 55403\, United States
ATTACH;FMTTYPE=image/webp:https://ourcathedral.org/wp-content/uploads/2026/03/Fellowship-coffee.webp
END:VEVENT
BEGIN:VEVENT
DTSTART;TZID=UTC:20250831T103000
DTEND;TZID=UTC:20250831T113000
DTSTAMP:20260419T122656
CREATED:20230314T160355Z
LAST-MODIFIED:20260112T213320Z
UID:10003959-1756636200-1756639800@ourcathedral.org
SUMMARY:Worship Service Rite II (Contemporary Language)
DESCRIPTION:Benefit Concert\nSave the Date - June 20\, 2026 at 7:30 PM. We are having a concert\, featuring music that you would never hear us perform on a Sunday -- think Cole Porter\, Noel Coward\, and Henry Mancini - as well as a silent auction. Proceeds will go towards subsidizing the trip.
URL:https://ourcathedral.org/event/worship-service-rite-ii-contemporary-language-2/2025-08-31/
LOCATION:Nave
CATEGORIES:Liturgy
ATTACH;FMTTYPE=image/webp:https://ourcathedral.org/wp-content/uploads/2023/03/Cathedral-stained-glass.webp
END:VEVENT
BEGIN:VEVENT
DTSTART;TZID=America/Chicago:20250903T121500
DTEND;TZID=America/Chicago:20250903T121500
DTSTAMP:20260419T122656
CREATED:20240617T203214Z
LAST-MODIFIED:20260110T231356Z
UID:10007447-1756901700-1756901700@ourcathedral.org
SUMMARY:Midweek Holy Eucharist
DESCRIPTION:Benefit Concert\nSave the Date - June 20\, 2026 at 7:30 PM. We are having a concert\, featuring music that you would never hear us perform on a Sunday -- think Cole Porter\, Noel Coward\, and Henry Mancini - as well as a silent auction. Proceeds will go towards subsidizing the trip.
URL:https://ourcathedral.org/event/midweek-service-2/2025-09-03/
LOCATION:All Saints Chapel
CATEGORIES:Worship
ATTACH;FMTTYPE=image/webp:https://ourcathedral.org/wp-content/uploads/2024/06/All-Saints-Chapel.webp
END:VEVENT
BEGIN:VEVENT
DTSTART;TZID=America/Chicago:20250905T080000
DTEND;TZID=America/Chicago:20250905T170000
DTSTAMP:20260419T122656
CREATED:20241209T200512Z
LAST-MODIFIED:20260318T163228Z
UID:10010907-1757059200-1757091600@ourcathedral.org
SUMMARY:Cathedral Closed - No Building Hours
DESCRIPTION:Benefit Concert\nSave the Date - June 20\, 2026 at 7:30 PM. We are having a concert\, featuring music that you would never hear us perform on a Sunday -- think Cole Porter\, Noel Coward\, and Henry Mancini - as well as a silent auction. Proceeds will go towards subsidizing the trip.
URL:https://ourcathedral.org/event/cathedral-closed-no-building-hours/2025-09-05/
LOCATION:Saint Mark’s Episcopal Cathedral\, 519 Oak Grove Street\, Minneapolis\, 55403\, United States
ATTACH;FMTTYPE=image/png:https://ourcathedral.org/wp-content/uploads/2025/06/Cathedral-closed-e1772655332556.png
END:VEVENT
BEGIN:VEVENT
DTSTART;TZID=America/Chicago:20250905T121500
DTEND;TZID=America/Chicago:20250905T124500
DTSTAMP:20260419T122656
CREATED:20250618T002556Z
LAST-MODIFIED:20260310T134057Z
UID:10011799-1757074500-1757076300@ourcathedral.org
SUMMARY:Gospel Based Discipleship
DESCRIPTION:Benefit Concert\nSave the Date - June 20\, 2026 at 7:30 PM. We are having a concert\, featuring music that you would never hear us perform on a Sunday -- think Cole Porter\, Noel Coward\, and Henry Mancini - as well as a silent auction. Proceeds will go towards subsidizing the trip.
URL:https://ourcathedral.org/event/gospel-based-discipleship-4-2-2/2025-09-05/
LOCATION:Zoom
CATEGORIES:Formation,Gospel Based Discipleship
ATTACH;FMTTYPE=image/jpeg:https://ourcathedral.org/wp-content/uploads/2023/08/Luke-e1772655392110.jpg
END:VEVENT
BEGIN:VEVENT
DTSTART;TZID=UTC:20250907T080000
DTEND;TZID=UTC:20250907T090000
DTSTAMP:20260419T122656
CREATED:20230314T155624Z
LAST-MODIFIED:20260112T213357Z
UID:10003699-1757232000-1757235600@ourcathedral.org
SUMMARY:Worship Service Rite I (Traditional Language) with Spoken Eucharist
DESCRIPTION:Benefit Concert\nSave the Date - June 20\, 2026 at 7:30 PM. We are having a concert\, featuring music that you would never hear us perform on a Sunday -- think Cole Porter\, Noel Coward\, and Henry Mancini - as well as a silent auction. Proceeds will go towards subsidizing the trip.
URL:https://ourcathedral.org/event/worship-service-rite-i-traditional-language-with-spoken-eucharist-2/2025-09-07/
LOCATION:Nave
CATEGORIES:Liturgy,Worship
ATTACH;FMTTYPE=image/png:https://ourcathedral.org/wp-content/uploads/2025/10/Book-of-Common-Prayer-stacked-on-shelf.png
END:VEVENT
BEGIN:VEVENT
DTSTART;TZID=America/Chicago:20250907T090000
DTEND;TZID=America/Chicago:20250907T130000
DTSTAMP:20260419T122656
CREATED:20221206T000235Z
LAST-MODIFIED:20260304T193925Z
UID:10013755-1757235600-1757250000@ourcathedral.org
SUMMARY:Sunday Fellowship
DESCRIPTION:Benefit Concert\nSave the Date - June 20\, 2026 at 7:30 PM. We are having a concert\, featuring music that you would never hear us perform on a Sunday -- think Cole Porter\, Noel Coward\, and Henry Mancini - as well as a silent auction. Proceeds will go towards subsidizing the trip.
URL:https://ourcathedral.org/event/sunday-fellowship/2025-09-07/
LOCATION:Community Room\, 519 Oak Grove Street\, Minneapolis\, 55403\, United States
ATTACH;FMTTYPE=image/webp:https://ourcathedral.org/wp-content/uploads/2026/03/Fellowship-coffee.webp
END:VEVENT
BEGIN:VEVENT
DTSTART;TZID=UTC:20250907T103000
DTEND;TZID=UTC:20250907T113000
DTSTAMP:20260419T122656
CREATED:20230314T160355Z
LAST-MODIFIED:20260112T213320Z
UID:10003960-1757241000-1757244600@ourcathedral.org
SUMMARY:Worship Service Rite II (Contemporary Language)
DESCRIPTION:Benefit Concert\nSave the Date - June 20\, 2026 at 7:30 PM. We are having a concert\, featuring music that you would never hear us perform on a Sunday -- think Cole Porter\, Noel Coward\, and Henry Mancini - as well as a silent auction. Proceeds will go towards subsidizing the trip.
URL:https://ourcathedral.org/event/worship-service-rite-ii-contemporary-language-2/2025-09-07/
LOCATION:Nave
CATEGORIES:Liturgy
ATTACH;FMTTYPE=image/webp:https://ourcathedral.org/wp-content/uploads/2023/03/Cathedral-stained-glass.webp
END:VEVENT
BEGIN:VEVENT
DTSTART;TZID=America/Chicago:20250910T121500
DTEND;TZID=America/Chicago:20250910T121500
DTSTAMP:20260419T122656
CREATED:20240617T203214Z
LAST-MODIFIED:20260110T231356Z
UID:10007448-1757506500-1757506500@ourcathedral.org
SUMMARY:Midweek Holy Eucharist
DESCRIPTION:Benefit Concert\nSave the Date - June 20\, 2026 at 7:30 PM. We are having a concert\, featuring music that you would never hear us perform on a Sunday -- think Cole Porter\, Noel Coward\, and Henry Mancini - as well as a silent auction. Proceeds will go towards subsidizing the trip.
URL:https://ourcathedral.org/event/midweek-service-2/2025-09-10/
LOCATION:All Saints Chapel
CATEGORIES:Worship
ATTACH;FMTTYPE=image/webp:https://ourcathedral.org/wp-content/uploads/2024/06/All-Saints-Chapel.webp
END:VEVENT
BEGIN:VEVENT
DTSTART;TZID=America/Chicago:20250912T080000
DTEND;TZID=America/Chicago:20250912T170000
DTSTAMP:20260419T122656
CREATED:20241209T200512Z
LAST-MODIFIED:20260318T163228Z
UID:10010908-1757664000-1757696400@ourcathedral.org
SUMMARY:Cathedral Closed - No Building Hours
DESCRIPTION:Benefit Concert\nSave the Date - June 20\, 2026 at 7:30 PM. We are having a concert\, featuring music that you would never hear us perform on a Sunday -- think Cole Porter\, Noel Coward\, and Henry Mancini - as well as a silent auction. Proceeds will go towards subsidizing the trip.
URL:https://ourcathedral.org/event/cathedral-closed-no-building-hours/2025-09-12/
LOCATION:Saint Mark’s Episcopal Cathedral\, 519 Oak Grove Street\, Minneapolis\, 55403\, United States
ATTACH;FMTTYPE=image/png:https://ourcathedral.org/wp-content/uploads/2025/06/Cathedral-closed-e1772655332556.png
END:VEVENT
BEGIN:VEVENT
DTSTART;TZID=America/Chicago:20250912T121500
DTEND;TZID=America/Chicago:20250912T124500
DTSTAMP:20260419T122656
CREATED:20250618T002556Z
LAST-MODIFIED:20260310T134057Z
UID:10011800-1757679300-1757681100@ourcathedral.org
SUMMARY:Gospel Based Discipleship
DESCRIPTION:Benefit Concert\nSave the Date - June 20\, 2026 at 7:30 PM. We are having a concert\, featuring music that you would never hear us perform on a Sunday -- think Cole Porter\, Noel Coward\, and Henry Mancini - as well as a silent auction. Proceeds will go towards subsidizing the trip.
URL:https://ourcathedral.org/event/gospel-based-discipleship-4-2-2/2025-09-12/
LOCATION:Zoom
CATEGORIES:Formation,Gospel Based Discipleship
ATTACH;FMTTYPE=image/jpeg:https://ourcathedral.org/wp-content/uploads/2023/08/Luke-e1772655392110.jpg
END:VEVENT
BEGIN:VEVENT
DTSTART;TZID=UTC:20250914T080000
DTEND;TZID=UTC:20250914T090000
DTSTAMP:20260419T122656
CREATED:20230314T155624Z
LAST-MODIFIED:20260112T213357Z
UID:10003700-1757836800-1757840400@ourcathedral.org
SUMMARY:Worship Service Rite I (Traditional Language) with Spoken Eucharist
DESCRIPTION:Benefit Concert\nSave the Date - June 20\, 2026 at 7:30 PM. We are having a concert\, featuring music that you would never hear us perform on a Sunday -- think Cole Porter\, Noel Coward\, and Henry Mancini - as well as a silent auction. Proceeds will go towards subsidizing the trip.
URL:https://ourcathedral.org/event/worship-service-rite-i-traditional-language-with-spoken-eucharist-2/2025-09-14/
LOCATION:Nave
CATEGORIES:Liturgy,Worship
ATTACH;FMTTYPE=image/png:https://ourcathedral.org/wp-content/uploads/2025/10/Book-of-Common-Prayer-stacked-on-shelf.png
END:VEVENT
BEGIN:VEVENT
DTSTART;TZID=America/Chicago:20250914T090000
DTEND;TZID=America/Chicago:20250914T130000
DTSTAMP:20260419T122656
CREATED:20221206T000235Z
LAST-MODIFIED:20260304T193925Z
UID:10013756-1757840400-1757854800@ourcathedral.org
SUMMARY:Sunday Fellowship
DESCRIPTION:Benefit Concert\nSave the Date - June 20\, 2026 at 7:30 PM. We are having a concert\, featuring music that you would never hear us perform on a Sunday -- think Cole Porter\, Noel Coward\, and Henry Mancini - as well as a silent auction. Proceeds will go towards subsidizing the trip.
URL:https://ourcathedral.org/event/sunday-fellowship/2025-09-14/
LOCATION:Community Room\, 519 Oak Grove Street\, Minneapolis\, 55403\, United States
ATTACH;FMTTYPE=image/webp:https://ourcathedral.org/wp-content/uploads/2026/03/Fellowship-coffee.webp
END:VEVENT
BEGIN:VEVENT
DTSTART;TZID=America/Chicago:20250914T090000
DTEND;TZID=America/Chicago:20250914T130000
DTSTAMP:20260419T122656
CREATED:20250913T212837Z
LAST-MODIFIED:20251221T205932Z
UID:10015147-1757840400-1757854800@ourcathedral.org
SUMMARY:Cathedral Bookshop
DESCRIPTION:Benefit Concert\nSave the Date - June 20\, 2026 at 7:30 PM. We are having a concert\, featuring music that you would never hear us perform on a Sunday -- think Cole Porter\, Noel Coward\, and Henry Mancini - as well as a silent auction. Proceeds will go towards subsidizing the trip.
URL:https://ourcathedral.org/event/cathedral-bookshop/2025-09-14/
LOCATION:Bookshop
ATTACH;FMTTYPE=image/jpeg:https://ourcathedral.org/wp-content/uploads/2025/09/Collage-of-book-covers.jpg
END:VEVENT
BEGIN:VEVENT
DTSTART;TZID=America/Chicago:20250914T100000
DTEND;TZID=America/Chicago:20250914T120000
DTSTAMP:20260419T122656
CREATED:20250913T192458Z
LAST-MODIFIED:20260318T154447Z
UID:10014447-1757844000-1757851200@ourcathedral.org
SUMMARY:Nursery
DESCRIPTION:Benefit Concert\nSave the Date - June 20\, 2026 at 7:30 PM. We are having a concert\, featuring music that you would never hear us perform on a Sunday -- think Cole Porter\, Noel Coward\, and Henry Mancini - as well as a silent auction. Proceeds will go towards subsidizing the trip.
URL:https://ourcathedral.org/event/nursery/2025-09-14/
LOCATION:Nursery-next to the library on the second floor of the building
CATEGORIES:Children's Formation
ATTACH;FMTTYPE=image/webp:https://ourcathedral.org/wp-content/uploads/2025/09/Nursery.webp
END:VEVENT
BEGIN:VEVENT
DTSTART;TZID=UTC:20250914T103000
DTEND;TZID=UTC:20250914T113000
DTSTAMP:20260419T122656
CREATED:20230314T160355Z
LAST-MODIFIED:20260112T213320Z
UID:10003961-1757845800-1757849400@ourcathedral.org
SUMMARY:Worship Service Rite II (Contemporary Language)
DESCRIPTION:Benefit Concert\nSave the Date - June 20\, 2026 at 7:30 PM. We are having a concert\, featuring music that you would never hear us perform on a Sunday -- think Cole Porter\, Noel Coward\, and Henry Mancini - as well as a silent auction. Proceeds will go towards subsidizing the trip.
URL:https://ourcathedral.org/event/worship-service-rite-ii-contemporary-language-2/2025-09-14/
LOCATION:Nave
CATEGORIES:Liturgy
ATTACH;FMTTYPE=image/webp:https://ourcathedral.org/wp-content/uploads/2023/03/Cathedral-stained-glass.webp
END:VEVENT
BEGIN:VEVENT
DTSTART;TZID=America/Chicago:20250914T170000
DTEND;TZID=America/Chicago:20250914T180000
DTSTAMP:20260419T122656
CREATED:20250913T193724Z
LAST-MODIFIED:20260109T202703Z
UID:10014708-1757869200-1757872800@ourcathedral.org
SUMMARY:Choral Evensong
DESCRIPTION:Benefit Concert\nSave the Date - June 20\, 2026 at 7:30 PM. We are having a concert\, featuring music that you would never hear us perform on a Sunday -- think Cole Porter\, Noel Coward\, and Henry Mancini - as well as a silent auction. Proceeds will go towards subsidizing the trip.
URL:https://ourcathedral.org/event/evensong/2025-09-14/
LOCATION:Nave
CATEGORIES:Music,Worship
ATTACH;FMTTYPE=image/webp:https://ourcathedral.org/wp-content/uploads/2025/09/Cathedral-choir-performing.webp
END:VEVENT
BEGIN:VEVENT
DTSTART;TZID=America/Chicago:20250916T103000
DTEND;TZID=America/Chicago:20250916T120000
DTSTAMP:20260419T122656
CREATED:20250913T190357Z
LAST-MODIFIED:20260127T213021Z
UID:10014267-1758018600-1758024000@ourcathedral.org
SUMMARY:Knitting Ministry
DESCRIPTION:Benefit Concert\nSave the Date - June 20\, 2026 at 7:30 PM. We are having a concert\, featuring music that you would never hear us perform on a Sunday -- think Cole Porter\, Noel Coward\, and Henry Mancini - as well as a silent auction. Proceeds will go towards subsidizing the trip.
URL:https://ourcathedral.org/event/knitting-ministry/2025-09-16/
LOCATION:Library
CATEGORIES:Fellowship,knitting
ATTACH;FMTTYPE=image/jpeg:https://ourcathedral.org/wp-content/uploads/2025/09/Knitting.jpg
END:VEVENT
BEGIN:VEVENT
DTSTART;TZID=America/Chicago:20250917T100000
DTEND;TZID=America/Chicago:20250917T140000
DTSTAMP:20260419T122656
CREATED:20250913T214430Z
LAST-MODIFIED:20251203T201440Z
UID:10015669-1758103200-1758117600@ourcathedral.org
SUMMARY:Cathedral Bookshop
DESCRIPTION:Benefit Concert\nSave the Date - June 20\, 2026 at 7:30 PM. We are having a concert\, featuring music that you would never hear us perform on a Sunday -- think Cole Porter\, Noel Coward\, and Henry Mancini - as well as a silent auction. Proceeds will go towards subsidizing the trip.
URL:https://ourcathedral.org/event/cathedral-bookshop-2/2025-09-17/
LOCATION:Bookshop
ATTACH;FMTTYPE=image/jpeg:https://ourcathedral.org/wp-content/uploads/2025/09/Book-titles.jpg
END:VEVENT
BEGIN:VEVENT
DTSTART;TZID=America/Chicago:20250917T121500
DTEND;TZID=America/Chicago:20250917T121500
DTSTAMP:20260419T122656
CREATED:20240617T203214Z
LAST-MODIFIED:20260110T231356Z
UID:10007449-1758111300-1758111300@ourcathedral.org
SUMMARY:Midweek Holy Eucharist
DESCRIPTION:Benefit Concert\nSave the Date - June 20\, 2026 at 7:30 PM. We are having a concert\, featuring music that you would never hear us perform on a Sunday -- think Cole Porter\, Noel Coward\, and Henry Mancini - as well as a silent auction. Proceeds will go towards subsidizing the trip.
URL:https://ourcathedral.org/event/midweek-service-2/2025-09-17/
LOCATION:All Saints Chapel
CATEGORIES:Worship
ATTACH;FMTTYPE=image/webp:https://ourcathedral.org/wp-content/uploads/2024/06/All-Saints-Chapel.webp
END:VEVENT
BEGIN:VEVENT
DTSTART;TZID=America/Chicago:20250917T190000
DTEND;TZID=America/Chicago:20250917T210000
DTSTAMP:20260419T122656
CREATED:20250914T173332Z
LAST-MODIFIED:20260204T151941Z
UID:10015931-1758135600-1758142800@ourcathedral.org
SUMMARY:Cathedral Choir rehearsal
DESCRIPTION:Benefit Concert\nSave the Date - June 20\, 2026 at 7:30 PM. We are having a concert\, featuring music that you would never hear us perform on a Sunday -- think Cole Porter\, Noel Coward\, and Henry Mancini - as well as a silent auction. Proceeds will go towards subsidizing the trip.
URL:https://ourcathedral.org/event/cathedral-choir-rehearsal/2025-09-17/
LOCATION:Whipple Chapel
CATEGORIES:Music
ATTACH;FMTTYPE=image/png:https://ourcathedral.org/wp-content/uploads/2022/12/GoodFriday-e1772655762230.png
END:VEVENT
BEGIN:VEVENT
DTSTART;TZID=America/Chicago:20250919T080000
DTEND;TZID=America/Chicago:20250919T170000
DTSTAMP:20260419T122656
CREATED:20241209T200512Z
LAST-MODIFIED:20260318T163228Z
UID:10010909-1758268800-1758301200@ourcathedral.org
SUMMARY:Cathedral Closed - No Building Hours
DESCRIPTION:Benefit Concert\nSave the Date - June 20\, 2026 at 7:30 PM. We are having a concert\, featuring music that you would never hear us perform on a Sunday -- think Cole Porter\, Noel Coward\, and Henry Mancini - as well as a silent auction. Proceeds will go towards subsidizing the trip.
URL:https://ourcathedral.org/event/cathedral-closed-no-building-hours/2025-09-19/
LOCATION:Saint Mark’s Episcopal Cathedral\, 519 Oak Grove Street\, Minneapolis\, 55403\, United States
ATTACH;FMTTYPE=image/png:https://ourcathedral.org/wp-content/uploads/2025/06/Cathedral-closed-e1772655332556.png
END:VEVENT
BEGIN:VEVENT
DTSTART;TZID=America/Chicago:20250919T121500
DTEND;TZID=America/Chicago:20250919T124500
DTSTAMP:20260419T122656
CREATED:20250618T002556Z
LAST-MODIFIED:20260310T134057Z
UID:10011801-1758284100-1758285900@ourcathedral.org
SUMMARY:Gospel Based Discipleship
DESCRIPTION:Benefit Concert\nSave the Date - June 20\, 2026 at 7:30 PM. We are having a concert\, featuring music that you would never hear us perform on a Sunday -- think Cole Porter\, Noel Coward\, and Henry Mancini - as well as a silent auction. Proceeds will go towards subsidizing the trip.
URL:https://ourcathedral.org/event/gospel-based-discipleship-4-2-2/2025-09-19/
LOCATION:Zoom
CATEGORIES:Formation,Gospel Based Discipleship
ATTACH;FMTTYPE=image/jpeg:https://ourcathedral.org/wp-content/uploads/2023/08/Luke-e1772655392110.jpg
END:VEVENT
BEGIN:VEVENT
DTSTART;TZID=UTC:20250921T080000
DTEND;TZID=UTC:20250921T090000
DTSTAMP:20260419T122656
CREATED:20230314T155624Z
LAST-MODIFIED:20260112T213357Z
UID:10003701-1758441600-1758445200@ourcathedral.org
SUMMARY:Worship Service Rite I (Traditional Language) with Spoken Eucharist
DESCRIPTION:Benefit Concert\nSave the Date - June 20\, 2026 at 7:30 PM. We are having a concert\, featuring music that you would never hear us perform on a Sunday -- think Cole Porter\, Noel Coward\, and Henry Mancini - as well as a silent auction. Proceeds will go towards subsidizing the trip.
URL:https://ourcathedral.org/event/worship-service-rite-i-traditional-language-with-spoken-eucharist-2/2025-09-21/
LOCATION:Nave
CATEGORIES:Liturgy,Worship
ATTACH;FMTTYPE=image/png:https://ourcathedral.org/wp-content/uploads/2025/10/Book-of-Common-Prayer-stacked-on-shelf.png
END:VEVENT
BEGIN:VEVENT
DTSTART;TZID=America/Chicago:20250921T090000
DTEND;TZID=America/Chicago:20250921T130000
DTSTAMP:20260419T122656
CREATED:20221206T000235Z
LAST-MODIFIED:20260304T193925Z
UID:10013757-1758445200-1758459600@ourcathedral.org
SUMMARY:Sunday Fellowship
DESCRIPTION:Benefit Concert\nSave the Date - June 20\, 2026 at 7:30 PM. We are having a concert\, featuring music that you would never hear us perform on a Sunday -- think Cole Porter\, Noel Coward\, and Henry Mancini - as well as a silent auction. Proceeds will go towards subsidizing the trip.
URL:https://ourcathedral.org/event/sunday-fellowship/2025-09-21/
LOCATION:Community Room\, 519 Oak Grove Street\, Minneapolis\, 55403\, United States
ATTACH;FMTTYPE=image/webp:https://ourcathedral.org/wp-content/uploads/2026/03/Fellowship-coffee.webp
END:VEVENT
BEGIN:VEVENT
DTSTART;TZID=America/Chicago:20250921T090000
DTEND;TZID=America/Chicago:20250921T130000
DTSTAMP:20260419T122656
CREATED:20250913T212837Z
LAST-MODIFIED:20251221T205932Z
UID:10015148-1758445200-1758459600@ourcathedral.org
SUMMARY:Cathedral Bookshop
DESCRIPTION:Benefit Concert\nSave the Date - June 20\, 2026 at 7:30 PM. We are having a concert\, featuring music that you would never hear us perform on a Sunday -- think Cole Porter\, Noel Coward\, and Henry Mancini - as well as a silent auction. Proceeds will go towards subsidizing the trip.
URL:https://ourcathedral.org/event/cathedral-bookshop/2025-09-21/
LOCATION:Bookshop
ATTACH;FMTTYPE=image/jpeg:https://ourcathedral.org/wp-content/uploads/2025/09/Collage-of-book-covers.jpg
END:VEVENT
END:VCALENDAR